BEGIN:VCALENDAR
VERSION:2.0
PRODID:-//Estate Management Network - ECPv6.15.20//NONSGML v1.0//EN
CALSCALE:GREGORIAN
METHOD:PUBLISH
X-ORIGINAL-URL:https://estatenetwork.org
X-WR-CALDESC:Events for Estate Management Network
REFRESH-INTERVAL;VALUE=DURATION:PT1H
X-Robots-Tag:noindex
X-PUBLISHED-TTL:PT1H
BEGIN:VTIMEZONE
TZID:America/New_York
BEGIN:DAYLIGHT
TZOFFSETFROM:-0500
TZOFFSETTO:-0400
TZNAME:EDT
DTSTART:20210314T070000
END:DAYLIGHT
BEGIN:STANDARD
TZOFFSETFROM:-0400
TZOFFSETTO:-0500
TZNAME:EST
DTSTART:20211107T060000
END:STANDARD
BEGIN:DAYLIGHT
TZOFFSETFROM:-0500
TZOFFSETTO:-0400
TZNAME:EDT
DTSTART:20220313T070000
END:DAYLIGHT
BEGIN:STANDARD
TZOFFSETFROM:-0400
TZOFFSETTO:-0500
TZNAME:EST
DTSTART:20221106T060000
END:STANDARD
BEGIN:DAYLIGHT
TZOFFSETFROM:-0500
TZOFFSETTO:-0400
TZNAME:EDT
DTSTART:20230312T070000
END:DAYLIGHT
BEGIN:STANDARD
TZOFFSETFROM:-0400
TZOFFSETTO:-0500
TZNAME:EST
DTSTART:20231105T060000
END:STANDARD
BEGIN:DAYLIGHT
TZOFFSETFROM:-0500
TZOFFSETTO:-0400
TZNAME:EDT
DTSTART:20240310T070000
END:DAYLIGHT
BEGIN:STANDARD
TZOFFSETFROM:-0400
TZOFFSETTO:-0500
TZNAME:EST
DTSTART:20241103T060000
END:STANDARD
END:VTIMEZONE
BEGIN:VEVENT
DTSTART;TZID=America/New_York:20231107T193000
DTEND;TZID=America/New_York:20231107T203000
DTSTAMP:20260423T121621
CREATED:20231025T171619Z
LAST-MODIFIED:20231110T133831Z
UID:21162-1699385400-1699389000@estatenetwork.org
SUMMARY:Member Meeting: Trial Roles- Yes or No?
DESCRIPTION:Join us to say hello to new members and discuss job trials. \nYou've reached subscriber content.Subscribe NowAlready a member? Log in here
URL:https://estatenetwork.org/event/fall-meeting-trial-roles-yes-or-no/
LOCATION:Virtual Event
CATEGORIES:Member Meeting
ATTACH;FMTTYPE=image/png:https://estatenetwork.org/wp-content/uploads/2023/10/EMN-Event-Headers-1.png
END:VEVENT
BEGIN:VEVENT
DTSTART;TZID=America/New_York:20230607T193000
DTEND;TZID=America/New_York:20230607T203000
DTSTAMP:20260423T121621
CREATED:20230301T152857Z
LAST-MODIFIED:20231110T134212Z
UID:19106-1686166200-1686169800@estatenetwork.org
SUMMARY:Building Your Estate Manual
DESCRIPTION:Join us to say hello to new members and discuss job trials. \nYou've reached subscriber content.Subscribe NowAlready a member? Log in here
URL:https://estatenetwork.org/event/building-your-estate-manual/
LOCATION:Virtual Event
CATEGORIES:Member Meeting,Virtual Event
ATTACH;FMTTYPE=image/png:https://estatenetwork.org/wp-content/uploads/2023/03/EMC_estate-manual.png
END:VEVENT
BEGIN:VEVENT
DTSTART;TZID=America/New_York:20230412T193000
DTEND;TZID=America/New_York:20230412T203000
DTSTAMP:20260423T121621
CREATED:20230306T183841Z
LAST-MODIFIED:20231110T134034Z
UID:18616-1681327800-1681331400@estatenetwork.org
SUMMARY:April Member Meeting: Nondisclosure Agreements
DESCRIPTION:Join us to say hello to new members and discuss job trials. \nYou've reached subscriber content.Subscribe NowAlready a member? Log in here
URL:https://estatenetwork.org/event/april-member-nda/
LOCATION:Virtual Event
CATEGORIES:Member Meeting
ATTACH;FMTTYPE=image/png:https://estatenetwork.org/wp-content/uploads/2023/02/EMN-Event-Headers_nda.png
END:VEVENT
BEGIN:VEVENT
DTSTART;TZID=America/New_York:20230208T193000
DTEND;TZID=America/New_York:20230208T203000
DTSTAMP:20260423T121621
CREATED:20230124T143033Z
LAST-MODIFIED:20230205T153045Z
UID:17365-1675884600-1675888200@estatenetwork.org
SUMMARY:February Member Meeting // Mentorship
DESCRIPTION:Join us to say hello to new members and discuss job trials. \nYou've reached subscriber content.Subscribe NowAlready a member? Log in here
URL:https://estatenetwork.org/event/february-member-meeting-mentorship/
LOCATION:Virtual Event
CATEGORIES:Member Meeting
ATTACH;FMTTYPE=image/png:https://estatenetwork.org/wp-content/uploads/2022/02/Screen-Shot-2022-02-01-at-5.25.03-PM.png
END:VEVENT
BEGIN:VEVENT
DTSTART;TZID=America/New_York:20221005T080000
DTEND;TZID=America/New_York:20221005T170000
DTSTAMP:20260423T121621
CREATED:20221218T190409Z
LAST-MODIFIED:20221218T190409Z
UID:16735-1664956800-1664989200@estatenetwork.org
SUMMARY:Estate Management Conference 2023 Initial Planning
DESCRIPTION:Join us to say hello to new members and discuss job trials. \nYou've reached subscriber content.Subscribe NowAlready a member? Log in here
URL:https://estatenetwork.org/event/estate-management-conference-2023-initial-planning/
LOCATION:Virtual Event
CATEGORIES:Estate Management Conference,Member Meeting,Virtual Event
ATTACH;FMTTYPE=image/png:https://estatenetwork.org/wp-content/uploads/2022/09/EMN_-Linkedin-Posts_savedate.png
END:VEVENT
BEGIN:VEVENT
DTSTART;TZID=America/New_York:20220914T193000
DTEND;TZID=America/New_York:20220914T203000
DTSTAMP:20260423T121621
CREATED:20221218T191334Z
LAST-MODIFIED:20221218T191334Z
UID:16740-1663183800-1663187400@estatenetwork.org
SUMMARY:Fall Member Meeting
DESCRIPTION:Join us to say hello to new members and discuss job trials. \nYou've reached subscriber content.Subscribe NowAlready a member? Log in here
URL:https://estatenetwork.org/event/fall-member-meeting/
LOCATION:Virtual Event
CATEGORIES:Member Meeting,Virtual Event
ATTACH;FMTTYPE=image/webp:https://estatenetwork.org/wp-content/uploads/2022/12/virtual-meeting.webp
END:VEVENT
BEGIN:VEVENT
DTSTART;TZID=America/New_York:20220721T193000
DTEND;TZID=America/New_York:20220721T203000
DTSTAMP:20260423T121621
CREATED:20221218T190059Z
LAST-MODIFIED:20221218T190059Z
UID:16732-1658431800-1658435400@estatenetwork.org
SUMMARY:Summer Member Meeting
DESCRIPTION:Join us to say hello to new members and discuss job trials. \nYou've reached subscriber content.Subscribe NowAlready a member? Log in here
URL:https://estatenetwork.org/event/summer-member-meeting/
LOCATION:Virtual Event
CATEGORIES:Member Meeting,Virtual Event
ATTACH;FMTTYPE=image/webp:https://estatenetwork.org/wp-content/uploads/2022/12/virtual-meetings.webp
END:VEVENT
END:VCALENDAR